{"text_format":"3","workbook":"xlsx","n_sheets":2,"sheets":["柳州银行应聘报名表","汇总表"],"not_rendered":{"defined_names":1},"read":"whole","date_system":"1900"}

{"sheet":"柳州银行应聘报名表","index":0,"n_rows":58,"n_cols":8,"rows_kept":58,"merged":[[0,0,0,7],[1,0,1,7],[2,1,2,4],[2,6,2,7],[3,0,3,7],[4,1,4,2],[4,7,7,7],[5,1,5,2],[6,1,6,2],[7,1,7,2],[8,1,8,4],[8,6,8,7],[9,1,9,3],[9,5,9,7],[10,1,10,3],[10,5,10,7],[12,0,12,5],[13,0,13,7],[14,0,14,7],[15,2,15,4],[16,2,16,4],[17,2,17,4],[18,2,18,4],[19,2,19,4],[20,2,20,4],[21,0,21,7],[22,2,22,3],[22,4,22,5],[23,2,23,3],[23,4,23,5],[24,2,24,3],[24,4,24,5],[25,2,25,3],[25,4,25,5],[26,2,26,3],[26,4,26,5],[27,2,27,3],[27,4,27,5],[28,0,28,7],[29,0,29,7],[30,0,30,7],[31,0,31,7],[32,0,32,7],[33,0,33,7],[34,0,34,1],[34,2,34,3],[34,4,34,7],[35,0,35,1],[35,2,35,3],[35,4,35,7],[36,0,36,1],[36,2,36,3],[36,4,36,7],[37,0,37,7],[38,0,38,1],[38,2,38,3],[38,4,38,7],[39,0,39,1],[39,2,39,3],[39,4,39,7],[40,0,40,1],[40,2,40,3],[40,4,40,7],[41,0,41,7],[42,1,42,2],[42,4,42,6],[43,1,43,2],[43,4,43,6],[44,1,44,2],[44,4,44,6],[45,1,45,2],[45,4,45,6],[46,1,46,2],[46,4,46,6],[47,0,47,7],[48,0,48,7],[49,1,49,2],[49,4,49,6],[50,1,50,2],[50,4,50,6],[51,1,51,2],[51,4,51,6],[52,0,52,7],[53,0,53,7],[54,0,54,7],[55,0,55,7],[56,0,56,7],[57,0,57,7]]}
["柳州银行应聘报名表"]
["应聘信息"]
["应聘岗位",{"$nulls":4},"工作地点"]
["个人基本信息"]
["姓名",null,null,"曾用名",null,"性别",null,"一寸证件照"]
["户口所在地",null,null,"民族",null,"出生日期"]
["政治面貌",null,null,"最高学历",null,"婚姻状况"]
["英语水平",null,null,"其他外语",null,"职称"]
["证书",{"$nulls":4},"电子邮箱"]
["身份证号码",{"$nulls":3},"现家庭居住地"]
["紧急联系人及联系方式",{"$nulls":3},"本人联系方式"]
["身体情况","身高(cm)",null,"体重(kg)",null,"健康状况"]
["目前薪酬      万元/年     期望薪酬       万元/年",{"$nulls":5},"是否\n服从调剂"]
["教育经历"]
["受教育详细情况(从最高学历填起至高中)"]
["开始年月","结束年月","学校名称",null,null,"专业名称","学历\n（学位）","教育类型"]
[]
[]
[]
[]
[]
["工作经历"]
["开始年月","结束年月","单位名称",null,"职务",null,"用工性质","证明人及\n联系方式"]
[]
[]
[]
[]
[]
["业绩成果"]
[]
[]
[]
[]
["奖励记录（没有请填无）"]
["奖励时间",null,"奖励单位",null,"奖励内容"]
[]
[]
["惩罚记录（没有请填无）"]
["惩罚时间",null,"惩罚单位",null,"惩罚内容"]
[]
[]
["家庭成员及重要社会关系"]
["关系","姓名",null,"出生年月","单位名称",null,null,"职务"]
["配偶"]
["子女"]
["父亲"]
["母亲"]
["请完整填写配偶、父母、兄弟姐妹等信息，如栏目不足可自行增加，并保证信息的真实性。"]
["柳州银行、柳银村镇银行亲属关系"]
["关系","姓名",null,"出生年月","单位名称",null,null,"职务"]
[]
[]
["亲属中如有在柳州银行及各柳银村镇银行工作的，必须在上表中逐一列明，如栏目不足可自行增加。"]
["其他说明"]
["特长："]
["爱好："]
["声明：本人承诺以上信息完全属实且未隐瞒柳州银行应知悉的重要信息，如有不实信息或隐瞒柳州银行应知悉的重要信息，本人同意柳州银行取消本人应聘资格，并承担由此引起的责任和后果。"]
["                               填表人签字：            日期：   年  月  日"]

{"sheet":"汇总表","index":1,"n_rows":7,"n_cols":33,"rows_kept":7,"hidden":true,"merged":[[0,0,0,1],[0,2,0,15],[0,17,0,23],[0,24,0,27],[0,28,0,32]]}
["应聘信息",null,"个人基本信息",{"$nulls":14},"教育情况",{"$nulls":6},"工作经历",{"$nulls":3},"家庭成员及重要社会关系"]
["应聘岗位","工作地点","姓名","性别","出生年月","身高（cm）","体重（kg）","健康状况","民族","婚姻状况","户籍","政治面貌","职称","现家庭住址","身份证号码","联系电话","电子邮箱","最高学历（学位）","教育类型","起止时间","毕业院校及专业","英语水平","其他外语","证书","起止时间","单位及职务","用工性质","证明人及联系方式","称谓","姓名","年龄","单位名称","职务"]
[{"$f":"柳州银行应聘报名表!B3","v":0},{"$f":"柳州银行应聘报名表!G3","v":0},{"$f":"柳州银行应聘报名表!B5","v":0},{"$f":"柳州银行应聘报名表!G5","v":0},{"$f":"柳州银行应聘报名表!G6","v":0},{"$f":"柳州银行应聘报名表!C12","v":0},{"$f":"柳州银行应聘报名表!E12","v":0},{"$f":"柳州银行应聘报名表!G12","v":0},{"$f":"柳州银行应聘报名表!E6","v":0},{"$f":"柳州银行应聘报名表!G7","v":0},{"$f":"柳州银行应聘报名表!B6","v":0},{"$f":"柳州银行应聘报名表!B7","v":0},{"$f":"柳州银行应聘报名表!G8","v":0},{"$f":"柳州银行应聘报名表!F10","v":0},{"$f":"柳州银行应聘报名表!B10","v":0},{"$f":"柳州银行应聘报名表!F11","v":0},{"$f":"柳州银行应聘报名表!G9","v":0},{"$f":"柳州银行应聘报名表!G17","v":0},{"$f":"柳州银行应聘报名表!H17","v":0},{"$f":"柳州银行应聘报名表!A17&\"-\"&柳州银行应聘报名表!B17","v":"-"},{"$f":"柳州银行应聘报名表!C17&\"/\"&柳州银行应聘报名表!F17","v":"/"},{"$f":"柳州银行应聘报名表!B8","v":0},{"$f":"柳州银行应聘报名表!E8","v":0},{"$f":"柳州银行应聘报名表!B9","v":0},{"$f":"柳州银行应聘报名表!A24&\"-\"&柳州银行应聘报名表!B24","v":"-"},{"$f":"柳州银行应聘报名表!C24&柳州银行应聘报名表!E24","v":""},{"$f":"柳州银行应聘报名表!G24","v":0},{"$f":"柳州银行应聘报名表!H24","v":0},"配偶",{"$f":"柳州银行应聘报名表!B44","v":0},{"$f":"柳州银行应聘报名表!D44","v":0},{"$f":"柳州银行应聘报名表!E44","v":0},{"$f":"柳州银行应聘报名表!H44","v":0}]
[{"$nulls":17},{"$f":"柳州银行应聘报名表!G18","v":0},{"$f":"柳州银行应聘报名表!H18","v":0},{"$f":"柳州银行应聘报名表!A18&\"-\"&柳州银行应聘报名表!B18","v":"-"},{"$f":"柳州银行应聘报名表!C18&\"/\"&柳州银行应聘报名表!F18","v":"/"},{"$nulls":3},{"$f":"柳州银行应聘报名表!A25&\"-\"&柳州银行应聘报名表!B25","v":"-"},{"$f":"柳州银行应聘报名表!C25&柳州银行应聘报名表!E25","v":""},{"$f":"柳州银行应聘报名表!G25","v":0},{"$f":"柳州银行应聘报名表!H25","v":0},"子女",{"$f":"柳州银行应聘报名表!B45","v":0},{"$f":"柳州银行应聘报名表!D45","v":0},{"$f":"柳州银行应聘报名表!E45","v":0},{"$f":"柳州银行应聘报名表!H45","v":0}]
[{"$nulls":17},{"$f":"柳州银行应聘报名表!G19","v":0},{"$f":"柳州银行应聘报名表!H19","v":0},{"$f":"柳州银行应聘报名表!A19&\"-\"&柳州银行应聘报名表!B19","v":"-"},{"$f":"柳州银行应聘报名表!C19&\"/\"&柳州银行应聘报名表!F19","v":"/"},{"$nulls":3},{"$f":"柳州银行应聘报名表!A26&\"-\"&柳州银行应聘报名表!B26","v":"-"},{"$f":"柳州银行应聘报名表!C26&柳州银行应聘报名表!E26","v":""},{"$f":"柳州银行应聘报名表!G26","v":0},{"$f":"柳州银行应聘报名表!H26","v":0},"父亲",{"$f":"柳州银行应聘报名表!B46","v":0},{"$f":"柳州银行应聘报名表!D46","v":0},{"$f":"柳州银行应聘报名表!E46","v":0},{"$f":"柳州银行应聘报名表!H46","v":0}]
[{"$nulls":24},{"$f":"柳州银行应聘报名表!A27&\"-\"&柳州银行应聘报名表!B27","v":"-"},{"$f":"柳州银行应聘报名表!C27&柳州银行应聘报名表!E27","v":""},{"$f":"柳州银行应聘报名表!G27","v":0},{"$f":"柳州银行应聘报名表!H27","v":0},"母亲",{"$f":"柳州银行应聘报名表!B47","v":0},{"$f":"柳州银行应聘报名表!D47","v":0},{"$f":"柳州银行应聘报名表!E47","v":0},{"$f":"柳州银行应聘报名表!H47","v":0}]
[{"$nulls":24},{"$f":"柳州银行应聘报名表!A28&\"-\"&柳州银行应聘报名表!B28","v":"-"},{"$f":"柳州银行应聘报名表!C28&柳州银行应聘报名表!E28","v":""},{"$f":"柳州银行应聘报名表!G28","v":0},{"$f":"柳州银行应聘报名表!H28","v":0},"其他",{"$f":"柳州银行应聘报名表!#REF!","v":{"$error":"#REF!"}},{"$f":"柳州银行应聘报名表!#REF!","v":{"$error":"#REF!"}},{"$f":"柳州银行应聘报名表!#REF!","v":{"$error":"#REF!"}},{"$f":"柳州银行应聘报名表!#REF!","v":{"$error":"#REF!"}}]