{"text_format":"3","workbook":"xlsx","n_sheets":3,"sheets":["Sheet1","Sheet2","Sheet3"],"not_rendered":{"external_links":1},"read":"whole","date_system":"1900"}

{"sheet":"Sheet1","index":0,"n_rows":40,"n_cols":4,"rows_kept":40,"merged":[[0,0,0,3]]}
["涟水农商行各网点地址及联系方式表"]
["序号","所在网点","地址","联系电话"]
[1,"徐集支行","涟水县徐集乡徐集街",{"$f":"VLOOKUP(B3,[1]Sheet1!$A$1:$B$35,2,0)","v":"0517-80827263"}]
[2,"南集支行","涟水县南集镇南集街",{"$f":"VLOOKUP(B4,[1]Sheet1!$A$1:$B$35,2,0)","v":"0517-80827265"}]
[3,"北集支行","涟水县北集办事处北集街",{"$f":"VLOOKUP(B5,[1]Sheet1!$A$1:$B$35,2,0)","v":"0517-80827267"}]
[4,"黄营支行","涟水县黄营乡黄营街",{"$f":"VLOOKUP(B6,[1]Sheet1!$A$1:$B$35,2,0)","v":"0517-80827268"}]
[5,"唐集支行","涟水县唐集镇唐集街",{"$f":"VLOOKUP(B7,[1]Sheet1!$A$1:$B$35,2,0)","v":"0517-80827269"}]
[6,"方渡支行","涟水县方渡办事处方渡街",{"$f":"VLOOKUP(B8,[1]Sheet1!$A$1:$B$35,2,0)","v":"0517-80827270"}]
[7,"保滩支行","涟水县保滩镇保滩街",{"$f":"VLOOKUP(B9,[1]Sheet1!$A$1:$B$35,2,0)","v":"0517-80827286"}]
[8,"时码支行","涟水县时码办事处时码街",{"$f":"VLOOKUP(B10,[1]Sheet1!$A$1:$B$35,2,0)","v":"0517-80827271"}]
[9,"大东支行","涟水县大东镇大东街",{"$f":"VLOOKUP(B11,[1]Sheet1!$A$1:$B$35,2,0)","v":"0517-80827272"}]
[10,"东胡集支行","涟水县东胡集镇东胡集街","0517-80827273"]
[11,"五港支行","涟水县五港镇五港街",{"$f":"VLOOKUP(B13,[1]Sheet1!$A$1:$B$35,2,0)","v":"0517-80827275"}]
[12,"朱码支行","涟水县朱码镇朱码街",{"$f":"VLOOKUP(B14,[1]Sheet1!$A$1:$B$35,2,0)","v":"0517-80827276"}]
[13,"河网支行","涟水县河网办事处河网街",{"$f":"VLOOKUP(B15,[1]Sheet1!$A$1:$B$35,2,0)","v":"0517-80827287"}]
[14,"岔庙支行","涟水县岔庙镇岔庙街",{"$f":"VLOOKUP(B16,[1]Sheet1!$A$1:$B$35,2,0)","v":"0517-80827289"}]
[15,"浅集支行","涟水县浅集办事处浅集街",{"$f":"VLOOKUP(B17,[1]Sheet1!$A$1:$B$35,2,0)","v":"0517-80827290"}]
[16,"红尧支行","涟水县红窑镇红窑街","0517-80827278"]
[17,"灰灯支行","涟水县灰墩办事处灰墩街","0517-80827291"]
[18,"义兴支行","涟水县义兴镇义兴街",{"$f":"VLOOKUP(B20,[1]Sheet1!$A$1:$B$35,2,0)","v":"0517-80827279"}]
[19,"高沟支行","涟水县高沟镇高沟街",{"$f":"VLOOKUP(B21,[1]Sheet1!$A$1:$B$35,2,0)","v":"0517-80827292"}]
[20,"高沟分理处","涟水县高沟镇第一街","0517-80827292"]
[21,"杨口支行","涟水县杨口办事处杨口街",{"$f":"VLOOKUP(B23,[1]Sheet1!$A$1:$B$35,2,0)","v":"0517-80827293"}]
[22,"陈师支行","涟水县陈师镇陈师街",{"$f":"VLOOKUP(B24,[1]Sheet1!$A$1:$B$35,2,0)","v":"0517-80827558"}]
[23,"成集支行","涟水县成集镇成集街",{"$f":"VLOOKUP(B25,[1]Sheet1!$A$1:$B$35,2,0)","v":"0517-80827296"}]
[24,"梁岔支行","涟水县梁岔镇梁岔街",{"$f":"VLOOKUP(B26,[1]Sheet1!$A$1:$B$35,2,0)","v":"0517-80827297"}]
[25,"前进支行","涟水县前进镇前进街",{"$f":"VLOOKUP(B27,[1]Sheet1!$A$1:$B$35,2,0)","v":"0517-80827556"}]
[26,"麻垛支行","涟水县麻垛开发区麻垛街",{"$f":"VLOOKUP(B28,[1]Sheet1!$A$1:$B$35,2,0)","v":"0517-80827558"}]
[27,"余圩支行","涟水县余圩办事处余圩街",{"$f":"VLOOKUP(B29,[1]Sheet1!$A$1:$B$35,2,0)","v":"0517-80827559"}]
[28,"涟城支行","涟水县涟城镇安东路75号",{"$f":"VLOOKUP(B30,[1]Sheet1!$A$1:$B$35,2,0)","v":"0517-80827259"}]
[29,"涟城分理处","涟水县涟城镇安东南路226号","0517-80827259"]
[30,"石湖支行","涟水县石湖镇石湖街",{"$f":"VLOOKUP(B32,[1]Sheet1!$A$1:$B$35,2,0)","v":"0517-80827280"}]
[31,"城南支行","涟水县郑梁梅大道150号",{"$f":"VLOOKUP(B33,[1]Sheet1!$A$1:$B$35,2,0)","v":"0517-80827281"}]
[32,"常青路支行","涟水县幸福里小区",{"$f":"VLOOKUP(B34,[1]Sheet1!$A$1:$B$35,2,0)","v":"0517-80827618"}]
[33,"中山支行","涟水县金城南路郑梁梅学校对面",{"$f":"VLOOKUP(B35,[1]Sheet1!$A$1:$B$35,2,0)","v":"0517-80827627"}]
[34,"安东支行",{"$f":"VLOOKUP(B36,[1]Sheet1!$A$1:$C$35,3,0)","v":"涟水县炎黄大道88号"},{"$f":"VLOOKUP(B36,[1]Sheet1!$A$1:$B$35,2,0)","v":"0517-80827282"}]
[35,"东鼎支行",{"$f":"VLOOKUP(B37,[1]Sheet1!$A$1:$C$35,3,0)","v":"涟水县东鼎小镇2号楼一层"},{"$f":"VLOOKUP(B37,[1]Sheet1!$A$1:$B$35,2,0)","v":"0517-80827283"}]
[36,"清华苑支行",{"$f":"VLOOKUP(B38,[1]Sheet1!$A$1:$C$35,3,0)","v":"涟水县新港清华苑小区"},{"$f":"VLOOKUP(B38,[1]Sheet1!$A$1:$B$35,2,0)","v":"0517-80325723"}]
[37,"红日支行",{"$f":"VLOOKUP(B39,[1]Sheet1!$A$1:$C$35,3,0)","v":"涟水县安东北路159号"},"0517-80827285"]
[38,"营业部","涟水县涟州路5号","0517-80827619"]

{"sheet":"Sheet2","index":1,"n_rows":0,"n_cols":0,"rows_kept":0}

{"sheet":"Sheet3","index":2,"n_rows":0,"n_cols":0,"rows_kept":0}