{"text_format":"3","workbook":"xlsx","n_sheets":1,"sheets":["综合柜员"],"not_rendered":{"external_links":1,"defined_names":1},"read":"whole","date_system":"1900"}

{"sheet":"综合柜员","index":0,"n_rows":161,"n_cols":7,"rows_kept":161,"merged":[[0,0,0,6]]}
["灵丘县综合柜员岗笔试成绩汇总"]
["序号","姓名","准考证号",null,null,"笔试成绩","笔试结果"]
[1,"黄帅 ","  LQbs201608293810\n ",{"$f":"TRIM(CLEAN((C3)))","v":"LQbs201608293810"},{"$f":"RIGHT(D3,8)","v":"08293810"},{"$f":"VLOOKUP(E3,[1]灵丘文科综合成绩单!$A$1:$E$65536,5,0)","v":59},"进入面试"]
[2,"郭晋杰 ","LQbs201608290878","LQbs201608290878","08290878",{"$f":"VLOOKUP(E4,[1]灵丘文科综合成绩单!$A$1:$E$65536,5,0)","v":59},"进入面试"]
[3,"刘晓莉 ","LQbs201608292375","LQbs201608292375","08292375",{"$f":"VLOOKUP(E5,[1]灵丘文科综合成绩单!$A$1:$E$65536,5,0)","v":54},"进入面试"]
[4,"李俊杰 "," LQbs201608290800\n","LQbs201608290800","08290800",53,"进入面试"]
[5,"刘俊涛 ","LQbs201608293699","LQbs201608293699","08293699",52,"进入面试"]
[6,"耿雯嫣 ","LQbs201608290150","LQbs201608290150","08290150",51,"进入面试"]
[7,"穆浴 ","LQbs201608291270","LQbs201608291270","08291270",51,"进入面试"]
[8,"刘家英 ","LQbs201608292445","LQbs201608292445","08292445",{"$f":"VLOOKUP(E10,[1]灵丘文科综合成绩单!$A$1:$E$65536,5,0)","v":50},"进入面试"]
[9,"宿强 "," LQbs201608291737\n","LQbs201608291737","08291737",{"$f":"VLOOKUP(E11,[1]灵丘文科综合成绩单!$A$1:$E$65536,5,0)","v":50},"进入面试"]
[10,"孟德倩 ","LQbs201608290399","LQbs201608290399","08290399",{"$f":"VLOOKUP(E12,[1]灵丘文科综合成绩单!$A$1:$E$65536,5,0)","v":50},"进入面试"]
[11,"张磊 ","LQbs201608291178","LQbs201608291178","08291178",{"$f":"VLOOKUP(E13,[1]灵丘文科综合成绩单!$A$1:$E$65536,5,0)","v":49},"进入面试"]
[12,"韩银权 ","LQbs201608290576","LQbs201608290576","08290576",{"$f":"VLOOKUP(E14,[1]灵丘文科综合成绩单!$A$1:$E$65536,5,0)","v":49},"进入面试"]
[13,"郄春健 "," LQbs201608292536\n","LQbs201608292536","08292536",{"$f":"VLOOKUP(E15,[1]灵丘文科综合成绩单!$A$1:$E$65536,5,0)","v":48},"进入面试"]
[14,"王尔胜 ","LQbs201608292449","LQbs201608292449","08292449",{"$f":"VLOOKUP(E16,[1]灵丘文科综合成绩单!$A$1:$E$65536,5,0)","v":48},"进入面试"]
[15,"张璞 "," LQbs201608291280\n","LQbs201608291280","08291280",{"$f":"VLOOKUP(E17,[1]灵丘文科综合成绩单!$A$1:$E$65536,5,0)","v":48},"进入面试"]
[16,"李晓飞 ","  LQbs201608291033\n ","LQbs201608291033","08291033",{"$f":"VLOOKUP(E18,[1]灵丘文科综合成绩单!$A$1:$E$65536,5,0)","v":48},"进入面试"]
[17,"徐凡 "," LQbs201608290269\n","LQbs201608290269","08290269",{"$f":"VLOOKUP(E19,[1]灵丘文科综合成绩单!$A$1:$E$65536,5,0)","v":48},"进入面试"]
[18,"闫润丽 ","LQbs201608293080","LQbs201608293080","08293080",{"$f":"VLOOKUP(E20,[1]灵丘文科综合成绩单!$A$1:$E$65536,5,0)","v":47},"未进入面试"]
[19,"陆亚楠 ","LQbs201608292618","LQbs201608292618","08292618",{"$f":"VLOOKUP(E21,[1]灵丘文科综合成绩单!$A$1:$E$65536,5,0)","v":47},"未进入面试"]
[20,"姚帅 "," LQbs201608291039\n","LQbs201608291039","08291039",{"$f":"VLOOKUP(E22,[1]灵丘文科综合成绩单!$A$1:$E$65536,5,0)","v":47},"未进入面试"]
[21,"侯婕 "," LQbs201608290578\n","LQbs201608290578","08290578",{"$f":"VLOOKUP(E23,[1]灵丘文科综合成绩单!$A$1:$E$65536,5,0)","v":47},"未进入面试"]
[22,"刘璐 ","LQbs201608293259","LQbs201608293259","08293259",{"$f":"VLOOKUP(E24,[1]灵丘文科综合成绩单!$A$1:$E$65536,5,0)","v":46},"未进入面试"]
[23,"杨苗 ","LQbs201608292230","LQbs201608292230","08292230",{"$f":"VLOOKUP(E25,[1]灵丘文科综合成绩单!$A$1:$E$65536,5,0)","v":46},"未进入面试"]
[24,"田盼盼 "," LQbs201608290443\n","LQbs201608290443","08290443",{"$f":"VLOOKUP(E26,[1]灵丘文科综合成绩单!$A$1:$E$65536,5,0)","v":46},"未进入面试"]
[25,"高小贺 ","LQbs201608291893","LQbs201608291893","08291893",{"$f":"VLOOKUP(E27,[1]灵丘文科综合成绩单!$A$1:$E$65536,5,0)","v":45},"未进入面试"]
[26,"夏秋红 "," LQbs201608291471\n","LQbs201608291471","08291471",{"$f":"VLOOKUP(E28,[1]灵丘文科综合成绩单!$A$1:$E$65536,5,0)","v":45},"未进入面试"]
[27,"邓晓莹 "," LQbs201608290900\n","LQbs201608290900","08290900",{"$f":"VLOOKUP(E29,[1]灵丘文科综合成绩单!$A$1:$E$65536,5,0)","v":45},"未进入面试"]
[28,"支云 ","LQbs201608291091","LQbs201608291091","08291091",{"$f":"VLOOKUP(E30,[1]灵丘文科综合成绩单!$A$1:$E$65536,5,0)","v":44},"未进入面试"]
[29,"刘文涛 ","LQbs201608290241","LQbs201608290241","08290241",{"$f":"VLOOKUP(E31,[1]灵丘文科综合成绩单!$A$1:$E$65536,5,0)","v":44},"未进入面试"]
[30,"王文丽 ","LQbs201608293733","LQbs201608293733","08293733",{"$f":"VLOOKUP(E32,[1]灵丘文科综合成绩单!$A$1:$E$65536,5,0)","v":43},"未进入面试"]
[31,"刘佳丽 ","LQbs201608293450","LQbs201608293450","08293450",{"$f":"VLOOKUP(E33,[1]灵丘文科综合成绩单!$A$1:$E$65536,5,0)","v":38},"未进入面试"]
[32,"宋宸洪 ","LQbs201608293410","LQbs201608293410","08293410",{"$f":"VLOOKUP(E34,[1]灵丘文科综合成绩单!$A$1:$E$65536,5,0)","v":43},"未进入面试"]
[33,"卢斌 "," LQbs201608292202\n",{"$f":"TRIM(CLEAN((C35)))","v":"LQbs201608292202"},{"$f":"RIGHT(D35,8)","v":"08292202"},{"$f":"VLOOKUP(E35,[1]灵丘文科综合成绩单!$A$1:$E$65536,5,0)","v":43},"未进入面试"]
[34,"贾官祥 "," LQbs201608290544\n","LQbs201608290544","08290544",{"$f":"VLOOKUP(E36,[1]灵丘文科综合成绩单!$A$1:$E$65536,5,0)","v":43},"未进入面试"]
[35,"梁文乐 ","LQbs201608290521","LQbs201608290521","08290521",{"$f":"VLOOKUP(E37,[1]灵丘文科综合成绩单!$A$1:$E$65536,5,0)","v":43},"未进入面试"]
[36,"贾晓丽 "," LQbs201608292405\n","LQbs201608292405","08292405",{"$f":"VLOOKUP(E38,[1]灵丘文科综合成绩单!$A$1:$E$65536,5,0)","v":42},"未进入面试"]
[37,"高艺萍 ","LQbs201608291845","LQbs201608291845","08291845",{"$f":"VLOOKUP(E39,[1]灵丘文科综合成绩单!$A$1:$E$65536,5,0)","v":42},"未进入面试"]
[38,"刘晓青 "," LQbs201608291421\n","LQbs201608291421","08291421",{"$f":"VLOOKUP(E40,[1]灵丘文科综合成绩单!$A$1:$E$65536,5,0)","v":42},"未进入面试"]
[39,"赵泽如 "," LQbs201608291043\n","LQbs201608291043","08291043",{"$f":"VLOOKUP(E41,[1]灵丘文科综合成绩单!$A$1:$E$65536,5,0)","v":42},"未进入面试"]
[40,"李淑鹏 ","  LQbs201608293032\n ","LQbs201608293032","08293032",{"$f":"VLOOKUP(E42,[1]灵丘文科综合成绩单!$A$1:$E$65536,5,0)","v":41},"未进入面试"]
[41,"王慧敏 ","LQbs201608292646","LQbs201608292646","08292646",{"$f":"VLOOKUP(E43,[1]灵丘文科综合成绩单!$A$1:$E$65536,5,0)","v":41},"未进入面试"]
[42,"王文平 ","LQbs201608292211","LQbs201608292211","08292211",{"$f":"VLOOKUP(E44,[1]灵丘文科综合成绩单!$A$1:$E$65536,5,0)","v":41},"未进入面试"]
[43,"王红丽 ","LQbs201608292149","LQbs201608292149","08292149",{"$f":"VLOOKUP(E45,[1]灵丘文科综合成绩单!$A$1:$E$65536,5,0)","v":41},"未进入面试"]
[44,"邓起凤 ","  LQbs201608292042\n ","LQbs201608292042","08292042",{"$f":"VLOOKUP(E46,[1]灵丘文科综合成绩单!$A$1:$E$65536,5,0)","v":41},"未进入面试"]
[45,"张凯 ","LQbs201608294122","LQbs201608294122","08294122",{"$f":"VLOOKUP(E47,[1]灵丘文科综合成绩单!$A$1:$E$65536,5,0)","v":40},"未进入面试"]
[46,"康海玲 ","LQbs201608292178","LQbs201608292178","08292178",{"$f":"VLOOKUP(E48,[1]灵丘文科综合成绩单!$A$1:$E$65536,5,0)","v":40},"未进入面试"]
[47,"张宝英 "," LQbs201608292082\n","LQbs201608292082","08292082",{"$f":"VLOOKUP(E49,[1]灵丘文科综合成绩单!$A$1:$E$65536,5,0)","v":40},"未进入面试"]
[48,"刘晓宇 "," LQbs201608291936\n","LQbs201608291936","08291936",{"$f":"VLOOKUP(E50,[1]灵丘文科综合成绩单!$A$1:$E$65536,5,0)","v":40},"未进入面试"]
[49,"智强 ","LQbs201608291678","LQbs201608291678","08291678",{"$f":"VLOOKUP(E51,[1]灵丘文科综合成绩单!$A$1:$E$65536,5,0)","v":40},"未进入面试"]
[50,"左霞 "," LQbs201608290920\n","LQbs201608290920","08290920",{"$f":"VLOOKUP(E52,[1]灵丘文科综合成绩单!$A$1:$E$65536,5,0)","v":40},"未进入面试"]
[51,"王秀荣 "," LQbs201608292815\n","LQbs201608292815","08292815",{"$f":"VLOOKUP(E53,[1]灵丘文科综合成绩单!$A$1:$E$65536,5,0)","v":39},"未进入面试"]
[52,"李晓婧 "," LQbs201608292468\n","LQbs201608292468","08292468",{"$f":"VLOOKUP(E54,[1]灵丘文科综合成绩单!$A$1:$E$65536,5,0)","v":39},"未进入面试"]
[53,"刘海娟 "," LQbs201608292009\n","LQbs201608292009","08292009",{"$f":"VLOOKUP(E55,[1]灵丘文科综合成绩单!$A$1:$E$65536,5,0)","v":39},"未进入面试"]
[54,"刘春丽 ","LQbs201608291930","LQbs201608291930","08291930",{"$f":"VLOOKUP(E56,[1]灵丘文科综合成绩单!$A$1:$E$65536,5,0)","v":39},"未进入面试"]
[55,"穆晓春 "," LQbs201608291833\n","LQbs201608291833","08291833",{"$f":"VLOOKUP(E57,[1]灵丘文科综合成绩单!$A$1:$E$65536,5,0)","v":39},"未进入面试"]
[56,"邢专霞 ","LQbs201608291563","LQbs201608291563","08291563",{"$f":"VLOOKUP(E58,[1]灵丘文科综合成绩单!$A$1:$E$65536,5,0)","v":39},"未进入面试"]
[57,"孙建青 ","LQbs201608290789","LQbs201608290789","08290789",{"$f":"VLOOKUP(E59,[1]灵丘文科综合成绩单!$A$1:$E$65536,5,0)","v":39},"未进入面试"]
[58,"刘雁青 "," LQbs201608290475\n","LQbs201608290475","08290475",{"$f":"VLOOKUP(E60,[1]灵丘文科综合成绩单!$A$1:$E$65536,5,0)","v":39},"未进入面试"]
[59,"张韶佳 ","LQbs201608293685","LQbs201608293685","08293685",{"$f":"VLOOKUP(E61,[1]灵丘文科综合成绩单!$A$1:$E$65536,5,0)","v":38},"未进入面试"]
[60,"贾娅娅 ","  LQbs201608293679\n ","LQbs201608293679","08293679",38,"未进入面试"]
[61,"蔚敏 ","LQbs201608293462","LQbs201608293462","08293462",{"$f":"VLOOKUP(E63,[1]灵丘文科综合成绩单!$A$1:$E$65536,5,0)","v":28},"未进入面试"]
[62,"胡晋文 ","LQbs201608292821","LQbs201608292821","08292821",{"$f":"VLOOKUP(E64,[1]灵丘文科综合成绩单!$A$1:$E$65536,5,0)","v":38},"未进入面试"]
[63,"张芳 ","LQbs201608290732","LQbs201608290732","08290732",{"$f":"VLOOKUP(E65,[1]灵丘文科综合成绩单!$A$1:$E$65536,5,0)","v":38},"未进入面试"]
[64,"王文娇 "," LQbs201608293144\n","LQbs201608293144","08293144",{"$f":"VLOOKUP(E66,[1]灵丘文科综合成绩单!$A$1:$E$65536,5,0)","v":37},"未进入面试"]
[65,"刘冠迪 ","LQbs201608292782",{"$f":"TRIM(CLEAN((C67)))","v":"LQbs201608292782"},{"$f":"RIGHT(D67,8)","v":"08292782"},{"$f":"VLOOKUP(E67,[1]灵丘文科综合成绩单!$A$1:$E$65536,5,0)","v":37},"未进入面试"]
[66,"安青 "," LQbs201608291899\n","LQbs201608291899","08291899",{"$f":"VLOOKUP(E68,[1]灵丘文科综合成绩单!$A$1:$E$65536,5,0)","v":37},"未进入面试"]
[67,"郭倩倩 ","LQbs201608291808","LQbs201608291808","08291808",{"$f":"VLOOKUP(E69,[1]灵丘文科综合成绩单!$A$1:$E$65536,5,0)","v":37},"未进入面试"]
[68,"刘叶 ","  LQbs201608291522\n ","LQbs201608291522","08291522",{"$f":"VLOOKUP(E70,[1]灵丘文科综合成绩单!$A$1:$E$65536,5,0)","v":37},"未进入面试"]
[69,"孙秀娟 ","  LQbs201608290982\n ","LQbs201608290982","08290982",{"$f":"VLOOKUP(E71,[1]灵丘文科综合成绩单!$A$1:$E$65536,5,0)","v":37},"未进入面试"]
[70,"李解 ","LQbs201608294175","LQbs201608294175","08294175",{"$f":"VLOOKUP(E72,[1]灵丘文科综合成绩单!$A$1:$E$65536,5,0)","v":36},"未进入面试"]
[71,"贾岚 ","LQbs201608293004","LQbs201608293004","08293004",{"$f":"VLOOKUP(E73,[1]灵丘文科综合成绩单!$A$1:$E$65536,5,0)","v":28},"未进入面试"]
[72,"刘晓云 ","LQbs201608292932","LQbs201608292932","08292932",{"$f":"VLOOKUP(E74,[1]灵丘文科综合成绩单!$A$1:$E$65536,5,0)","v":36},"未进入面试"]
[73,"高小慧 ","LQbs201608292491","LQbs201608292491","08292491",{"$f":"VLOOKUP(E75,[1]灵丘文科综合成绩单!$A$1:$E$65536,5,0)","v":36},"未进入面试"]
[74,"武江娜 ","LQbs201608292212","LQbs201608292212","08292212",{"$f":"VLOOKUP(E76,[1]灵丘文科综合成绩单!$A$1:$E$65536,5,0)","v":36},"未进入面试"]
[75,"张超 ","LQbs201608291058","LQbs201608291058","08291058",{"$f":"VLOOKUP(E77,[1]灵丘文科综合成绩单!$A$1:$E$65536,5,0)","v":36},"未进入面试"]
[76,"冀改银 ","LQbs201608290296","LQbs201608290296","08290296",{"$f":"VLOOKUP(E78,[1]灵丘文科综合成绩单!$A$1:$E$65536,5,0)","v":36},"未进入面试"]
[77,"裴海萍 ","  LQbs201608293419\n ","LQbs201608293419","08293419",{"$f":"VLOOKUP(E79,[1]灵丘文科综合成绩单!$A$1:$E$65536,5,0)","v":35},"未进入面试"]
[78,"李凡申 ","LQbs201608293075","LQbs201608293075","08293075",{"$f":"VLOOKUP(E80,[1]灵丘文科综合成绩单!$A$1:$E$65536,5,0)","v":35},"未进入面试"]
[79,"李洪光 ","LQbs201608292654","LQbs201608292654","08292654",{"$f":"VLOOKUP(E81,[1]灵丘文科综合成绩单!$A$1:$E$65536,5,0)","v":35},"未进入面试"]
[80,"白丽媛 ","LQbs201608292174","LQbs201608292174","08292174",{"$f":"VLOOKUP(E82,[1]灵丘文科综合成绩单!$A$1:$E$65536,5,0)","v":35},"未进入面试"]
[81,"曹玲玲 ","LQbs201608291888","LQbs201608291888","08291888",{"$f":"VLOOKUP(E83,[1]灵丘文科综合成绩单!$A$1:$E$65536,5,0)","v":35},"未进入面试"]
[82,"刘亚丰 "," LQbs201608291362\n","LQbs201608291362","08291362",{"$f":"VLOOKUP(E84,[1]灵丘文科综合成绩单!$A$1:$E$65536,5,0)","v":35},"未进入面试"]
[83,"李炎昭 "," LQbs201608291288","LQbs201608291288","08291288",{"$f":"VLOOKUP(E85,[1]灵丘文科综合成绩单!$A$1:$E$65536,5,0)","v":35},"未进入面试"]
[84,"马海云 ","LQbs201608290938","LQbs201608290938","08290938",{"$f":"VLOOKUP(E86,[1]灵丘文科综合成绩单!$A$1:$E$65536,5,0)","v":35},"未进入面试"]
[85,"李少杰 "," LQbs201608293229\n","LQbs201608293229","08293229",{"$f":"VLOOKUP(E87,[1]灵丘文科综合成绩单!$A$1:$E$65536,5,0)","v":34},"未进入面试"]
[86,"张艳红 ","LQbs201608292479","LQbs201608292479","08292479",{"$f":"VLOOKUP(E88,[1]灵丘文科综合成绩单!$A$1:$E$65536,5,0)","v":34},"未进入面试"]
[87,"王文帅 "," LQbs201608292201\n","LQbs201608292201","08292201",{"$f":"VLOOKUP(E89,[1]灵丘文科综合成绩单!$A$1:$E$65536,5,0)","v":34},"未进入面试"]
[88,"孙宁宁 "," LQbs201608290758\n","LQbs201608290758","08290758",{"$f":"VLOOKUP(E90,[1]灵丘文科综合成绩单!$A$1:$E$65536,5,0)","v":34},"未进入面试"]
[89,"黄婷婷 ","LQbs201608293521","LQbs201608293521","08293521",{"$f":"VLOOKUP(E91,[1]灵丘文科综合成绩单!$A$1:$E$65536,5,0)","v":33},"未进入面试"]
[90,"郭继华 ","LQbs201608293185","LQbs201608293185","08293185",{"$f":"VLOOKUP(E92,[1]灵丘文科综合成绩单!$A$1:$E$65536,5,0)","v":33},"未进入面试"]
[91,"胡剑涛 ","LQbs201608293145","LQbs201608293145","08293145",{"$f":"VLOOKUP(E93,[1]灵丘文科综合成绩单!$A$1:$E$65536,5,0)","v":33},"未进入面试"]
[92,"王涛 ","LQbs201608292906","LQbs201608292906","08292906",{"$f":"VLOOKUP(E94,[1]灵丘文科综合成绩单!$A$1:$E$65536,5,0)","v":33},"未进入面试"]
[93,"张东红 "," LQbs201608292020\n","LQbs201608292020","08292020",{"$f":"VLOOKUP(E95,[1]灵丘文科综合成绩单!$A$1:$E$65536,5,0)","v":33},"未进入面试"]
[94,"张婷婷 ","LQbs201608293043","LQbs201608293043","08293043",{"$f":"VLOOKUP(E96,[1]灵丘文科综合成绩单!$A$1:$E$65536,5,0)","v":32},"未进入面试"]
[95,"白丽萍 "," LQbs201608291340\n","LQbs201608291340","08291340",{"$f":"VLOOKUP(E97,[1]灵丘文科综合成绩单!$A$1:$E$65536,5,0)","v":32},"未进入面试"]
[96,"马粉花 ","LQbs201608291310","LQbs201608291310","08291310",{"$f":"VLOOKUP(E98,[1]灵丘文科综合成绩单!$A$1:$E$65536,5,0)","v":32},"未进入面试"]
[97,"朱昱明 "," LQbs201608292809\n",{"$f":"TRIM(CLEAN((C99)))","v":"LQbs201608292809"},{"$f":"RIGHT(D99,8)","v":"08292809"},{"$f":"VLOOKUP(E99,[1]灵丘文科综合成绩单!$A$1:$E$65536,5,0)","v":31},"未进入面试"]
[98,"陈利娟 "," LQbs201608290804\n","LQbs201608290804","08290804",{"$f":"VLOOKUP(E100,[1]灵丘文科综合成绩单!$A$1:$E$65536,5,0)","v":31},"未进入面试"]
[99,"郑金鑫 ","LQbs201608293587","LQbs201608293587","08293587",30,"未进入面试"]
[100,"刘霞 ","LQbs201608293231","LQbs201608293231","08293231",{"$f":"VLOOKUP(E102,[1]灵丘文科综合成绩单!$A$1:$E$65536,5,0)","v":30},"未进入面试"]
[101,"张慧慧 "," LQbs201608291700\n","LQbs201608291700","08291700",{"$f":"VLOOKUP(E103,[1]灵丘文科综合成绩单!$A$1:$E$65536,5,0)","v":30},"未进入面试"]
[102,"吕永秀 ","LQbs201608291574","LQbs201608291574","08291574",{"$f":"VLOOKUP(E104,[1]灵丘文科综合成绩单!$A$1:$E$65536,5,0)","v":30},"未进入面试"]
[103,"刘海丽 "," LQbs201608292863\n","LQbs201608292863","08292863",{"$f":"VLOOKUP(E105,[1]灵丘文科综合成绩单!$A$1:$E$65536,5,0)","v":29},"未进入面试"]
[104,"王建丽 ","LQbs201608291866","LQbs201608291866","08291866",{"$f":"VLOOKUP(E106,[1]灵丘文科综合成绩单!$A$1:$E$65536,5,0)","v":29},"未进入面试"]
[105,"张良 ","LQbs201608293506","LQbs201608293506","08293506",{"$f":"VLOOKUP(E107,[1]灵丘文科综合成绩单!$A$1:$E$65536,5,0)","v":43},"未进入面试"]
[106,"曹宇 ","LQbs201608293366","LQbs201608293366","08293366",{"$f":"VLOOKUP(E108,[1]灵丘文科综合成绩单!$A$1:$E$65536,5,0)","v":28},"未进入面试"]
[107,"刘晓斌 "," LQbs201608293315\n","LQbs201608293315","08293315",{"$f":"VLOOKUP(E109,[1]灵丘文科综合成绩单!$A$1:$E$65536,5,0)","v":28},"未进入面试"]
[108,"高少媛 ","LQbs201608292409","LQbs201608292409","08292409",{"$f":"VLOOKUP(E110,[1]灵丘文科综合成绩单!$A$1:$E$65536,5,0)","v":28},"未进入面试"]
[109,"贾雁如 ","  LQbs201608292309\n ","LQbs201608292309","08292309",{"$f":"VLOOKUP(E111,[1]灵丘文科综合成绩单!$A$1:$E$65536,5,0)","v":28},"未进入面试"]
[110,"边世纬 "," LQbs201608294015","LQbs201608294015","08294015",{"$f":"VLOOKUP(E112,[1]灵丘文科综合成绩单!$A$1:$E$65536,5,0)","v":27},"未进入面试"]
[111,"王亚婷 ","LQbs201608293653","LQbs201608293653","08293653",{"$f":"VLOOKUP(E113,[1]灵丘文科综合成绩单!$A$1:$E$65536,5,0)","v":27},"未进入面试"]
[112,"安路 ","LQbs201608293096","LQbs201608293096","08293096",{"$f":"VLOOKUP(E114,[1]灵丘文科综合成绩单!$A$1:$E$65536,5,0)","v":27},"未进入面试"]
[113,"邓立文 ","LQbs201608293029","LQbs201608293029","08293029",{"$f":"VLOOKUP(E115,[1]灵丘文科综合成绩单!$A$1:$E$65536,5,0)","v":27},"未进入面试"]
[114,"张玉凤 "," LQbs201608293084\n","LQbs201608293084","08293084",{"$f":"VLOOKUP(E116,[1]灵丘文科综合成绩单!$A$1:$E$65536,5,0)","v":26},"未进入面试"]
[115,"支秀 "," LQbs201608292787\n","LQbs201608292787","08292787",{"$f":"VLOOKUP(E117,[1]灵丘文科综合成绩单!$A$1:$E$65536,5,0)","v":26},"未进入面试"]
[116,"李福生 "," LQbs201608290679\n","LQbs201608290679","08290679",{"$f":"VLOOKUP(E118,[1]灵丘文科综合成绩单!$A$1:$E$65536,5,0)","v":25},"未进入面试"]
[117,"王娜 ","LQbs201608291607","LQbs201608291607","08291607",{"$f":"VLOOKUP(E119,[1]灵丘文科综合成绩单!$A$1:$E$65536,5,0)","v":23},"未进入面试"]
[118,"刘丽媛 "," LQbs201608290656\n","LQbs201608290656","08290656",{"$f":"VLOOKUP(E120,[1]灵丘文科综合成绩单!$A$1:$E$65536,5,0)","v":23},"未进入面试"]
[119,"闫庆玲 ","LQbs201608293312","LQbs201608293312","08293312",{"$f":"VLOOKUP(E121,[1]灵丘文科综合成绩单!$A$1:$E$65536,5,0)","v":22},"未进入面试"]
[120,"张慧斌 ","LQbs201608292077","LQbs201608292077","08292077",{"$f":"VLOOKUP(E122,[1]灵丘文科综合成绩单!$A$1:$E$65536,5,0)","v":22},"未进入面试"]
[121,"雷晓庆 ","LQbs201608290700","LQbs201608290700","08290700",{"$f":"VLOOKUP(E123,[1]灵丘文科综合成绩单!$A$1:$E$65536,5,0)","v":21},"未进入面试"]
[122,"张小敏 ","LQbs201608294051","LQbs201608294051","08294051",{"$f":"VLOOKUP(E124,[1]灵丘文科综合成绩单!$A$1:$E$65536,5,0)","v":0},"缺考"]
[123,"毋效梅 ","LQbs201608293893","LQbs201608293893","08293893",{"$f":"VLOOKUP(E125,[1]灵丘文科综合成绩单!$A$1:$E$65536,5,0)","v":0},"缺考"]
[124,"李波 ","LQbs201608293831","LQbs201608293831","08293831",{"$f":"VLOOKUP(E126,[1]灵丘文科综合成绩单!$A$1:$E$65536,5,0)","v":0},"缺考"]
[125,"刘香云 ","LQbs201608293793","LQbs201608293793","08293793",{"$f":"VLOOKUP(E127,[1]灵丘文科综合成绩单!$A$1:$E$65536,5,0)","v":0},"缺考"]
[126,"王星杰 ","LQbs201608293714","LQbs201608293714","08293714",0,"缺考"]
[127,"杨燕燕 ","LQbs201608293660","LQbs201608293660","08293660",0,"缺考"]
[128,"段鹏艳 ","LQbs201608293544","LQbs201608293544","08293544",0,"缺考"]
[129,"牛志红 ","LQbs201608293517",{"$f":"TRIM(CLEAN((C131)))","v":"LQbs201608293517"},{"$f":"RIGHT(D131,8)","v":"08293517"},{"$f":"VLOOKUP(E131,[1]灵丘文科综合成绩单!$A$1:$E$65536,5,0)","v":0},"缺考"]
[130,"韩晓丽 ","LQbs201608293391","LQbs201608293391","08293391",{"$f":"VLOOKUP(E132,[1]灵丘文科综合成绩单!$A$1:$E$65536,5,0)","v":0},"缺考"]
[131,"张卫平 ","LQbs201608293159","LQbs201608293159","08293159",{"$f":"VLOOKUP(E133,[1]灵丘文科综合成绩单!$A$1:$E$65536,5,0)","v":0},"缺考"]
[132,"张欣 ","LQbs201608293108","LQbs201608293108","08293108",{"$f":"VLOOKUP(E134,[1]灵丘文科综合成绩单!$A$1:$E$65536,5,0)","v":0},"缺考"]
[133,"杨红 ","LQbs201608293028","LQbs201608293028","08293028",0,"缺考"]
[134,"李忠林 ","LQbs201608292852","LQbs201608292852","08292852",{"$f":"VLOOKUP(E136,[1]灵丘文科综合成绩单!$A$1:$E$65536,5,0)","v":0},"缺考"]
[135,"王沐 ","LQbs201608292822","LQbs201608292822","08292822",{"$f":"VLOOKUP(E137,[1]灵丘文科综合成绩单!$A$1:$E$65536,5,0)","v":0},"缺考"]
[136,"李鑫 ","LQbs201608292783","LQbs201608292783","08292783",{"$f":"VLOOKUP(E138,[1]灵丘文科综合成绩单!$A$1:$E$65536,5,0)","v":0},"缺考"]
[137,"王斐 ","LQbs201608292715","LQbs201608292715","08292715",{"$f":"VLOOKUP(E139,[1]灵丘文科综合成绩单!$A$1:$E$65536,5,0)","v":0},"缺考"]
[138,"李慧超 ","LQbs201608292643","LQbs201608292643","08292643",{"$f":"VLOOKUP(E140,[1]灵丘文科综合成绩单!$A$1:$E$65536,5,0)","v":0},"缺考"]
[139,"靳晓月 "," LQbs201608292466\n","LQbs201608292466","08292466",{"$f":"VLOOKUP(E141,[1]灵丘文科综合成绩单!$A$1:$E$65536,5,0)","v":0},"缺考"]
[140,"白侠 ","LQbs201608292364","LQbs201608292364","08292364",{"$f":"VLOOKUP(E142,[1]灵丘文科综合成绩单!$A$1:$E$65536,5,0)","v":0},"缺考"]
[141,"侯慧中 ","LQbs201608292265","LQbs201608292265","08292265",{"$f":"VLOOKUP(E143,[1]灵丘文科综合成绩单!$A$1:$E$65536,5,0)","v":0},"缺考"]
[142,"樊艳 ","LQbs201608292256","LQbs201608292256","08292256",{"$f":"VLOOKUP(E144,[1]灵丘文科综合成绩单!$A$1:$E$65536,5,0)","v":0},"缺考"]
[143,"王竹箐 ","LQbs201608292047","LQbs201608292047","08292047",{"$f":"VLOOKUP(E145,[1]灵丘文科综合成绩单!$A$1:$E$65536,5,0)","v":0},"缺考"]
[144,"高雅 ","LQbs201608292015","LQbs201608292015","08292015",{"$f":"VLOOKUP(E146,[1]灵丘文科综合成绩单!$A$1:$E$65536,5,0)","v":0},"缺考"]
[145,"李乔园 "," LQbs201608291968\n","LQbs201608291968","08291968",{"$f":"VLOOKUP(E147,[1]灵丘文科综合成绩单!$A$1:$E$65536,5,0)","v":0},"缺考"]
[146,"王慧芳 ","LQbs201608291684","LQbs201608291684","08291684",{"$f":"VLOOKUP(E148,[1]灵丘文科综合成绩单!$A$1:$E$65536,5,0)","v":0},"缺考"]
[147,"仝志强 ","LQbs201608291647","LQbs201608291647","08291647",{"$f":"VLOOKUP(E149,[1]灵丘文科综合成绩单!$A$1:$E$65536,5,0)","v":0},"缺考"]
[148,"潘俊彦 ","LQbs201608291569","LQbs201608291569","08291569",{"$f":"VLOOKUP(E150,[1]灵丘文科综合成绩单!$A$1:$E$65536,5,0)","v":0},"缺考"]
[149,"张红丽 ","LQbs201608291507","LQbs201608291507","08291507",{"$f":"VLOOKUP(E151,[1]灵丘文科综合成绩单!$A$1:$E$65536,5,0)","v":0},"缺考"]
[150,"王美玲 "," LQbs201608291207\n","LQbs201608291207","08291207",{"$f":"VLOOKUP(E152,[1]灵丘文科综合成绩单!$A$1:$E$65536,5,0)","v":0},"缺考"]
[151,"李姣杰 ","LQbs201608291145","LQbs201608291145","08291145",{"$f":"VLOOKUP(E153,[1]灵丘文科综合成绩单!$A$1:$E$65536,5,0)","v":0},"缺考"]
[152,"贾思敏 "," LQbs201608291118\n","LQbs201608291118","08291118",{"$f":"VLOOKUP(E154,[1]灵丘文科综合成绩单!$A$1:$E$65536,5,0)","v":0},"缺考"]
[153,"董海涛 ","LQbs201608291087","LQbs201608291087","08291087",{"$f":"VLOOKUP(E155,[1]灵丘文科综合成绩单!$A$1:$E$65536,5,0)","v":0},"缺考"]
[154,"郭璐 "," LQbs201608290817\n","LQbs201608290817","08290817",{"$f":"VLOOKUP(E156,[1]灵丘文科综合成绩单!$A$1:$E$65536,5,0)","v":0},"缺考"]
[155,"贾涛 "," LQbs201608290806\n","LQbs201608290806","08290806",{"$f":"VLOOKUP(E157,[1]灵丘文科综合成绩单!$A$1:$E$65536,5,0)","v":0},"缺考"]
[156,"郭君权 "," LQbs201608290702\n","LQbs201608290702","08290702",{"$f":"VLOOKUP(E158,[1]灵丘文科综合成绩单!$A$1:$E$65536,5,0)","v":0},"缺考"]
[157,"李慧敏 "," LQbs201608290577\n","LQbs201608290577","08290577",{"$f":"VLOOKUP(E159,[1]灵丘文科综合成绩单!$A$1:$E$65536,5,0)","v":0},"缺考"]
[158,"马振秀 "," LQbs201608290548\n","LQbs201608290548","08290548",{"$f":"VLOOKUP(E160,[1]灵丘文科综合成绩单!$A$1:$E$65536,5,0)","v":0},"缺考"]
[159,"李红涛 ","LQbs201608290423","LQbs201608290423","08290423",{"$f":"VLOOKUP(E161,[1]灵丘文科综合成绩单!$A$1:$E$65536,5,0)","v":0},"缺考"]